BEGIN:VCALENDAR
VERSION:2.0
PRODID:-//Freie Waldorfschule Erlangen - ECPv6.3.7//NONSGML v1.0//EN
CALSCALE:GREGORIAN
METHOD:PUBLISH
X-WR-CALNAME:Freie Waldorfschule Erlangen
X-ORIGINAL-URL:https://waldorfschule-erlangen.de
X-WR-CALDESC:Veranstaltungen für Freie Waldorfschule Erlangen
REFRESH-INTERVAL;VALUE=DURATION:PT1H
X-Robots-Tag:noindex
X-PUBLISHED-TTL:PT1H
BEGIN:VTIMEZONE
TZID:Europe/Berlin
BEGIN:DAYLIGHT
TZOFFSETFROM:+0100
TZOFFSETTO:+0200
TZNAME:CEST
DTSTART:20240331T010000
END:DAYLIGHT
BEGIN:STANDARD
TZOFFSETFROM:+0200
TZOFFSETTO:+0100
TZNAME:CET
DTSTART:20241027T010000
END:STANDARD
END:VTIMEZONE
BEGIN:VEVENT
DTSTART;TZID=Europe/Berlin:20241123T110000
DTEND;TZID=Europe/Berlin:20241123T160000
DTSTAMP:20260423T145822
CREATED:20241008T055601Z
LAST-MODIFIED:20241107T071902Z
UID:10000086-1732359600-1732377600@waldorfschule-erlangen.de
SUMMARY:VHS Workshop zum Kennenlernen der Waldorfpädagogik für neue interessierte Eltern
DESCRIPTION:
URL:https://waldorfschule-erlangen.de/termin/vhs-workshop-zum-kennenlernen-der-waldorfpaedagogik-fuer-neue-interessierte-eltern/
ATTACH;FMTTYPE=image/jpeg:https://waldorfschule-erlangen.de/wp-content/uploads/Richtingswijzer-scaled.jpg
END:VEVENT
END:VCALENDAR