BEGIN:VCALENDAR
VERSION:2.0
PRODID:-//Freie Waldorfschule Erlangen - ECPv6.3.7//NONSGML v1.0//EN
CALSCALE:GREGORIAN
METHOD:PUBLISH
X-ORIGINAL-URL:https://waldorfschule-erlangen.de
X-WR-CALDESC:Veranstaltungen für Freie Waldorfschule Erlangen
REFRESH-INTERVAL;VALUE=DURATION:PT1H
X-Robots-Tag:noindex
X-PUBLISHED-TTL:PT1H
BEGIN:VTIMEZONE
TZID:Europe/Berlin
BEGIN:DAYLIGHT
TZOFFSETFROM:+0100
TZOFFSETTO:+0200
TZNAME:CEST
DTSTART:20240331T010000
END:DAYLIGHT
BEGIN:STANDARD
TZOFFSETFROM:+0200
TZOFFSETTO:+0100
TZNAME:CET
DTSTART:20241027T010000
END:STANDARD
END:VTIMEZONE
BEGIN:VEVENT
DTSTART;TZID=Europe/Berlin:20240717T190000
DTEND;TZID=Europe/Berlin:20240717T210000
DTSTAMP:20260419T171934
CREATED:20240716T154827Z
LAST-MODIFIED:20240716T154852Z
UID:10000096-1721242800-1721250000@waldorfschule-erlangen.de
SUMMARY:Die Zauberflöte
DESCRIPTION:Liebe Eltern\, Kinder und Interessierte\, \nam Mittwoch\, 17.07.2024 um 19Uhr können Sie die Oper „Die Zauberflöte“ in der Waldorfschule Erlangen live erleben. \nIn einer für Waldorfschulen konzipierten Fassung (Annika Kirschke) wird die berühmteste Mozart-Oper im Säulensaal aufgeführt. \nUnter der künstlerischen Leitung von Anna Wielopolski und Raymund Zrenner sowie der musikalischen Gestaltung von Andreas Babel am Klavier singen und spielen 27 Kin-der der Klasse 5b. \nSpieldauer ca. 2 Std. inkl. Pause. \nWir freuen uns auf Ihren zahlreichen Besuch. Das Stück ist für Kinder ab 6 geeignet.
URL:https://waldorfschule-erlangen.de/termin/die-zauberfloete/
LOCATION:Säulensaal
ATTACH;FMTTYPE=image/jpeg:https://waldorfschule-erlangen.de/wp-content/uploads/die_Zauberfloete_oper_v2.jpg
END:VEVENT
END:VCALENDAR