BEGIN:VCALENDAR
VERSION:2.0
PRODID:-//Freie Waldorfschule Erlangen - ECPv6.3.7//NONSGML v1.0//EN
CALSCALE:GREGORIAN
METHOD:PUBLISH
X-WR-CALNAME:Freie Waldorfschule Erlangen
X-ORIGINAL-URL:https://waldorfschule-erlangen.de
X-WR-CALDESC:Veranstaltungen für Freie Waldorfschule Erlangen
REFRESH-INTERVAL;VALUE=DURATION:PT1H
X-Robots-Tag:noindex
X-PUBLISHED-TTL:PT1H
BEGIN:VTIMEZONE
TZID:Europe/Berlin
BEGIN:DAYLIGHT
TZOFFSETFROM:+0100
TZOFFSETTO:+0200
TZNAME:CEST
DTSTART:20240331T010000
END:DAYLIGHT
BEGIN:STANDARD
TZOFFSETFROM:+0200
TZOFFSETTO:+0100
TZNAME:CET
DTSTART:20241027T010000
END:STANDARD
END:VTIMEZONE
BEGIN:VEVENT
DTSTART;TZID=Europe/Berlin:20240108T080000
DTEND;TZID=Europe/Berlin:20240531T170000
DTSTAMP:20260419T160355
CREATED:20231211T095133Z
LAST-MODIFIED:20240118T073652Z
UID:10000071-1704700800-1717174800@waldorfschule-erlangen.de
SUMMARY:Schulanmeldung 2024/2025 (ab 08.01.24 möglich)
DESCRIPTION:Liebe Eltern und Interessierte\, \nIhr Kind fiebert bestimmt schon dem neuen Lebensabschnitt mit der Einschulung entgegen und freut sich auf das\, was ihm in der Schulzeit begegnet.\nAb dem 8. Januar 2024 stehen hier die Anmeldeformulare für das neue Schuljahr zum Download bereit. An unserem Tag der offenen Tür\, 27. Januar 2024\, können Sie und Ihr Kind unsere Schule persönlich kennenlernen und Hineinschnuppern in den Unterricht. Möchten Sie einen der Unterrichte besuchen\, können Sie sich dazu ab Januar anmelden\, wir informieren Sie hier rechtseitig auf unserer Webseite. \nDamit Sie auch als Eltern gut vorbereitet den Schulstart Ihres Kindes begleiten und um Ihnen einen Eindruck von der Schule und der Pädagogik zu vermitteln\, bieten wir im Januar verschiedene Seminarabende zur Waldorfpädagogik an unserer Schule an. Wir freuen uns auf ein persönliches Kennenlernen und auf einen regen Austausch! \nMittwoch\, 10.01.2024 19:30 Uhr Klassenlehrerzeit und Oberstufe\nMittwoch\, 17.01.2024 19:30 Uhr Künstlerisch-praktische Fächer wegen Glatteiswarnung auf 07.02.24 verschoben\nMittwoch\, 24.01.2024 19:30 Uhr Fremdsprachen\nMittwoch\, 31.01.2024 19:30 Uhr Medien und Waldorfpädagogik\nMittwoch\, 17.01.2024 19:30 Uhr Künstlerisch-praktische Fächer \nTag der offenen Tür\, 27.01.2024\, 9:00 Uhr
URL:https://waldorfschule-erlangen.de/termin/schulanmeldung-2024-2025/
END:VEVENT
BEGIN:VEVENT
DTSTART;TZID=Europe/Berlin:20240207T193000
DTEND;TZID=Europe/Berlin:20240207T210000
DTSTAMP:20260419T160355
CREATED:20231218T115104Z
LAST-MODIFIED:20240118T070501Z
UID:10000074-1707334200-1707339600@waldorfschule-erlangen.de
SUMMARY:Seminarabend zum Thema Künstlerisch-praktische Fächer
DESCRIPTION:Dies ist der letzte Termin von vier unterschiedlichen Abenden mit vertiefendem Charakter. Wir stellen Ihnen das Unterrichtskonzept der Freien Waldorfschule Erlangen ausführlich vor und beantworten im Rahmen der Vorträge Ihre Fragen. \nThema des heutigen Abends ist „die Künstlerisch-Praktische Fächer“. \nMittwoch um 19:30 im 2. Stock des Hauptgebäudes der Waldorfschule laden wir alle Interessierten herzlich ein\, mehr über die Waldorfpädagogik zu erfahren. Eine Anmeldung ist nicht notwendig. Für Eltern die ihre Kinder anmelden wollen\, ist eine Teilnahme erforderlich.
URL:https://waldorfschule-erlangen.de/termin/seminarabend-zum-thema-kuenstlerisch-praktische-faecher/
ATTACH;FMTTYPE=image/jpeg:https://waldorfschule-erlangen.de/wp-content/uploads/FWE_Kunst_03_2000px.jpg
END:VEVENT
BEGIN:VEVENT
DTSTART;TZID=Europe/Berlin:20240208T190000
DTEND;TZID=Europe/Berlin:20240208T210000
DTSTAMP:20260419T160355
CREATED:20240208T113620Z
LAST-MODIFIED:20240208T115257Z
UID:10000079-1707418800-1707426000@waldorfschule-erlangen.de
SUMMARY:Klassenspiel Klasse 8B - Titanic Updated von Stefan Menck
DESCRIPTION:Plakat Klassenspiel SJ 23_24 \nTitanic Updated\nvon Stefan Menck\nKlassenspiel der 8b\nDo. 8. & Fr. 9. Februar 2024\n19:00 Uhr im Säulensaal
URL:https://waldorfschule-erlangen.de/termin/klassenspiel-klasse-8b-titanic-updated-von-stefan-menck/2024-02-08/
ATTACH;FMTTYPE=image/png:https://waldorfschule-erlangen.de/wp-content/uploads/Titanic-Updated.png
END:VEVENT
BEGIN:VEVENT
DTSTART;TZID=Europe/Berlin:20240209T190000
DTEND;TZID=Europe/Berlin:20240209T210000
DTSTAMP:20260419T160355
CREATED:20240208T113620Z
LAST-MODIFIED:20240208T115257Z
UID:10000080-1707505200-1707512400@waldorfschule-erlangen.de
SUMMARY:Klassenspiel Klasse 8B - Titanic Updated von Stefan Menck
DESCRIPTION:Plakat Klassenspiel SJ 23_24 \nTitanic Updated\nvon Stefan Menck\nKlassenspiel der 8b\nDo. 8. & Fr. 9. Februar 2024\n19:00 Uhr im Säulensaal
URL:https://waldorfschule-erlangen.de/termin/klassenspiel-klasse-8b-titanic-updated-von-stefan-menck/2024-02-09/
ATTACH;FMTTYPE=image/png:https://waldorfschule-erlangen.de/wp-content/uploads/Titanic-Updated.png
END:VEVENT
END:VCALENDAR