BEGIN:VCALENDAR
VERSION:2.0
PRODID:-//Freie Waldorfschule Erlangen - ECPv6.3.7//NONSGML v1.0//EN
CALSCALE:GREGORIAN
METHOD:PUBLISH
X-ORIGINAL-URL:https://waldorfschule-erlangen.de
X-WR-CALDESC:Veranstaltungen für Freie Waldorfschule Erlangen
REFRESH-INTERVAL;VALUE=DURATION:PT1H
X-Robots-Tag:noindex
X-PUBLISHED-TTL:PT1H
BEGIN:VTIMEZONE
TZID:Europe/Berlin
BEGIN:DAYLIGHT
TZOFFSETFROM:+0100
TZOFFSETTO:+0200
TZNAME:CEST
DTSTART:20260329T010000
END:DAYLIGHT
BEGIN:STANDARD
TZOFFSETFROM:+0200
TZOFFSETTO:+0100
TZNAME:CET
DTSTART:20261025T010000
END:STANDARD
END:VTIMEZONE
BEGIN:VEVENT
DTSTART;TZID=Europe/Berlin:20260211T193000
DTEND;TZID=Europe/Berlin:20260211T210000
DTSTAMP:20260419T194421
CREATED:20250929T111049Z
LAST-MODIFIED:20260127T122417Z
UID:10000128-1770838200-1770843600@waldorfschule-erlangen.de
SUMMARY:Verschoben! - 3. Seminarabend zum Thema Fremdsprachen am 28.01.2026 findet\, wegen der schwierige Wetterlage\, erst am 11.02.2026 statt!
DESCRIPTION:Dies ist die dritte von vier Seminarabende. An vier Abenden mit vertiefendem Charakter stellen wir Ihnen das Unterrichtskonzept der Freien Waldorfschule Erlangen ausführlich vor und beantworten im Rahmen der Vorträge Ihre Fragen. \nJeweils mittwochs um 19:30 Uhr im 2. Stock des Hauptgebäudes der Waldorfschule laden wir alle Interessierten herzlich ein\, mehr über die Waldorfpädagogik zu erfahren: \nFolgenden Seminarabend können Sie auch besuchen:\nMittwoch\, 04.02.2025: 4. Seminarabend Medien \nSofern Sie Ihr Kind für das kommende oder laufende Schuljahr anmelden möchten\, wäre es wünschenswert\, an möglichst allen der Seminarabende teilzunehmen. Die Abende sind wesentlicher Bestandteil des Aufnahmeverfahrens. \nMöchten Sie uns kennenlernen? Dann kommen Sie an unseren Veranstaltungen vorbei!
URL:https://waldorfschule-erlangen.de/termin/3-seminarabend-zum-thema-fremdsprachen/
ATTACH;FMTTYPE=image/jpeg:https://waldorfschule-erlangen.de/wp-content/uploads/FWE_Schuelerin_01_2000px.jpg
END:VEVENT
BEGIN:VEVENT
DTSTART;TZID=Europe/Berlin:20260317T190000
DTEND;TZID=Europe/Berlin:20260317T190000
DTSTAMP:20260419T194421
CREATED:20260316T074613Z
LAST-MODIFIED:20260316T075029Z
UID:10000139-1773774000-1773774000@waldorfschule-erlangen.de
SUMMARY:Mit Schlittenhunden durch Jämtland/Nordschweden\, Vortrag von Hans Rosemann
DESCRIPTION:„Lasst mir den Winter und lasst mir die Hunde\, den rest könnt ihr behalten.“\nVon Knud Rasmussen (grönlandisch-dänischen Polarforscher) \n  \nSchlitten ist zum Anschauen vor Ort!
URL:https://waldorfschule-erlangen.de/termin/mit-schlittenhunden-durch-jaemtland-nordschweden-vortrag-von-hans-rosemann/
LOCATION:Turnhalle
ATTACH;FMTTYPE=image/jpeg:https://waldorfschule-erlangen.de/wp-content/uploads/Schlittenhunde.jpg
END:VEVENT
END:VCALENDAR