BEGIN:VCALENDAR
VERSION:2.0
PRODID:-//Freie Waldorfschule Erlangen - ECPv6.3.7//NONSGML v1.0//EN
CALSCALE:GREGORIAN
METHOD:PUBLISH
X-ORIGINAL-URL:https://waldorfschule-erlangen.de
X-WR-CALDESC:Veranstaltungen für Freie Waldorfschule Erlangen
REFRESH-INTERVAL;VALUE=DURATION:PT1H
X-Robots-Tag:noindex
X-PUBLISHED-TTL:PT1H
BEGIN:VTIMEZONE
TZID:Europe/Berlin
BEGIN:DAYLIGHT
TZOFFSETFROM:+0100
TZOFFSETTO:+0200
TZNAME:CEST
DTSTART:20250330T010000
END:DAYLIGHT
BEGIN:STANDARD
TZOFFSETFROM:+0200
TZOFFSETTO:+0100
TZNAME:CET
DTSTART:20251026T010000
END:STANDARD
END:VTIMEZONE
BEGIN:VEVENT
DTSTART;TZID=Europe/Berlin:20250705T140000
DTEND;TZID=Europe/Berlin:20250705T170000
DTSTAMP:20260425T160304
CREATED:20250626T101151Z
LAST-MODIFIED:20250626T101735Z
UID:10000123-1751724000-1751734800@waldorfschule-erlangen.de
SUMMARY:Sommerfest
DESCRIPTION:
URL:https://waldorfschule-erlangen.de/termin/sommerfest-3/
ATTACH;FMTTYPE=image/png:https://waldorfschule-erlangen.de/wp-content/uploads/Sommerfest-2025-e1750933092581.png
END:VEVENT
BEGIN:VEVENT
DTSTART;TZID=Europe/Berlin:20250705T170000
DTEND;TZID=Europe/Berlin:20250705T190000
DTSTAMP:20260425T160304
CREATED:20250624T074840Z
LAST-MODIFIED:20250624T075115Z
UID:10000122-1751734800-1751742000@waldorfschule-erlangen.de
SUMMARY:Mit dem Unimog durch die Wüste
DESCRIPTION:Marokko 2024 – Mit dem Unimog durch die Wüste\nWollt ihr die Wüste Marokkos sowie unseren Expeditions-Unimog kennen lernen? \nReferenten: Birgit und Tom Bertelshofer \nKostenloser Eintritt.\nSpenden erwünscht\, welche dem Projekt „Schulkletterwand“ zugute kommen
URL:https://waldorfschule-erlangen.de/termin/mit-dem-unimog-durch-die-wueste/
END:VEVENT
BEGIN:VEVENT
DTSTART;TZID=Europe/Berlin:20250717T190000
DTEND;TZID=Europe/Berlin:20250717T203000
DTSTAMP:20260425T160304
CREATED:20250714T105715Z
LAST-MODIFIED:20250715T071330Z
UID:10000124-1752778800-1752784200@waldorfschule-erlangen.de
SUMMARY:Theaterstück "Der Besuch der alten Dame" am 17.07 und 18.07
DESCRIPTION:Am Donnerstag\, 17.07. und Freitag\, 18.07. führt die 12. Klasse der Freien Waldorfschule in Erlangen das Theaterstück „Der Besuch der alten Dame“ von Friedrich Dürrenmatt auf. \nDonnerstag 17.07 – Säulensaal der Freien Waldorfschule und Freitag 18.07 – Markgrafentheater Erlangen jeweils um 19:00 Uhr. \nDie Stadt Güllen ist verarmt. Die Hoffnung ruht auf einem unerwarteten Besuch: Claire Zachanassian\, eine schwerreiche Dame und ehemalige Bürgerin\, kehrt zurück. Was zunächst wie ein Akt der Wohltätigkeit erscheint\, entwickelt sich zu einem makabren Angebot: Eine Milliarde – im Tausch für Gerechtigkeit in Form von Rache. In „Der Besuch der alten Damen“ zeigt Friedrich Dürrenmat wie Moral verhandelbar wird\, wenn der Preis hoch genug ist. Seine Figuren stehen exemplarisch für menschlichen Schwächen – und für das tragische Versagen einer Gemeinschaft.
URL:https://waldorfschule-erlangen.de/termin/7206/
LOCATION:Säulensaal
ATTACH;FMTTYPE=image/png:https://waldorfschule-erlangen.de/wp-content/uploads/Besuch-der-alten-Damen.png
END:VEVENT
BEGIN:VEVENT
DTSTART;TZID=Europe/Berlin:20250718T190000
DTEND;TZID=Europe/Berlin:20250718T203000
DTSTAMP:20260425T160304
CREATED:20250714T105900Z
LAST-MODIFIED:20250715T071156Z
UID:10000125-1752865200-1752870600@waldorfschule-erlangen.de
SUMMARY:Theaterstück "Der Besuch der alten Dame" am 17.07 und 18.07
DESCRIPTION:Am Donnerstag\, 17.07.25 und Freitag\, 18.07.25 führt die 12. Klasse der Freien Waldorfschule in Erlangen das Theaterstück „Der Besuch der alten Dame“ von Friedrich Dürrenmatt auf. \nDonnerstag 17.07 – Säulensaal der Freien Waldorfschule und Freitag 18.07 – Markgrafentheater Erlangen jeweils um 19:00 Uhr. \nDie Stadt Güllen ist verarmt. Die Hoffnung ruht auf einem unerwarteten Besuch: Claire Zachanassian\, eine schwerreiche Dame und ehemalige Bürgerin\, kehrt zurück. Was zunächst wie ein Akt der Wohltätigkeit erscheint\, entwickelt sich zu einem makabren Angebot: Eine Milliarde – im Tausch für Gerechtigkeit in Form von Rache. In „Der Besuch der alten Damen“ zeigt Friedrich Dürrenmat wie Moral verhandelbar wird\, wenn der Preis hoch genug ist. Seine Figuren stehen exemplarisch für menschlichen Schwächen – und für das tragische Versagen einer Gemeinschaft.
URL:https://waldorfschule-erlangen.de/termin/theaterstueck-der-besuch-der-alten-dame-am-17-07-und-18-07/
LOCATION:Markgrafentheater\, Theaterplatz 1\, Erlangen\, Deutschland
ATTACH;FMTTYPE=image/png:https://waldorfschule-erlangen.de/wp-content/uploads/Besuch-der-alten-Damen.png
END:VEVENT
END:VCALENDAR