BEGIN:VCALENDAR
VERSION:2.0
PRODID:-//Freie Waldorfschule Erlangen - ECPv6.3.7//NONSGML v1.0//EN
CALSCALE:GREGORIAN
METHOD:PUBLISH
X-ORIGINAL-URL:https://waldorfschule-erlangen.de
X-WR-CALDESC:Veranstaltungen für Freie Waldorfschule Erlangen
REFRESH-INTERVAL;VALUE=DURATION:PT1H
X-Robots-Tag:noindex
X-PUBLISHED-TTL:PT1H
BEGIN:VTIMEZONE
TZID:Europe/Berlin
BEGIN:DAYLIGHT
TZOFFSETFROM:+0100
TZOFFSETTO:+0200
TZNAME:CEST
DTSTART:20250330T010000
END:DAYLIGHT
BEGIN:STANDARD
TZOFFSETFROM:+0200
TZOFFSETTO:+0100
TZNAME:CET
DTSTART:20251026T010000
END:STANDARD
END:VTIMEZONE
BEGIN:VEVENT
DTSTART;TZID=Europe/Berlin:20250604T190000
DTEND;TZID=Europe/Berlin:20250604T213000
DTSTAMP:20260419T163042
CREATED:20250429T071749Z
LAST-MODIFIED:20250515T083917Z
UID:10000121-1749063600-1749072600@waldorfschule-erlangen.de
SUMMARY:Klassenspiel der 8b
DESCRIPTION:Alladin und die Wunderlampe\nKlassenspiel der Klasse 8b\nMittwoch 04.06.2025 und Donnerstag 05.06.2025\n19:00 Uhr im Säulensaal (Unterstufengebäude)
URL:https://waldorfschule-erlangen.de/termin/klassenspiel-der-8b-2/
LOCATION:Säulensaal
ATTACH;FMTTYPE=image/jpeg:https://waldorfschule-erlangen.de/wp-content/uploads/2691-scaled.jpg
END:VEVENT
BEGIN:VEVENT
DTSTART;TZID=Europe/Berlin:20250605T190000
DTEND;TZID=Europe/Berlin:20250605T213000
DTSTAMP:20260419T163042
CREATED:20250429T071322Z
LAST-MODIFIED:20250515T083837Z
UID:10000119-1749150000-1749159000@waldorfschule-erlangen.de
SUMMARY:Klassenspiel der 8b
DESCRIPTION:Alladin und die Wunderlampe\nKlassenspiel der Klasse 8b\nMittwoch 04.06.2025 und Donnerstag 05.06.2025\n19:00 Uhr im Säulensaal (Unterstufengebäude)
URL:https://waldorfschule-erlangen.de/termin/klassenspiel-der-8b-3/2025-06-05/
LOCATION:Säulensaal
ATTACH;FMTTYPE=image/jpeg:https://waldorfschule-erlangen.de/wp-content/uploads/2691-scaled.jpg
END:VEVENT
END:VCALENDAR