BEGIN:VCALENDAR
VERSION:2.0
PRODID:-//Freie Waldorfschule Erlangen - ECPv6.3.7//NONSGML v1.0//EN
CALSCALE:GREGORIAN
METHOD:PUBLISH
X-ORIGINAL-URL:https://waldorfschule-erlangen.de
X-WR-CALDESC:Veranstaltungen für Freie Waldorfschule Erlangen
REFRESH-INTERVAL;VALUE=DURATION:PT1H
X-Robots-Tag:noindex
X-PUBLISHED-TTL:PT1H
BEGIN:VTIMEZONE
TZID:Europe/Berlin
BEGIN:DAYLIGHT
TZOFFSETFROM:+0100
TZOFFSETTO:+0200
TZNAME:CEST
DTSTART:20230326T010000
END:DAYLIGHT
BEGIN:STANDARD
TZOFFSETFROM:+0200
TZOFFSETTO:+0100
TZNAME:CET
DTSTART:20231029T010000
END:STANDARD
END:VTIMEZONE
BEGIN:VEVENT
DTSTART;TZID=Europe/Berlin:20230422T100000
DTEND;TZID=Europe/Berlin:20230422T130000
DTSTAMP:20260420T122250
CREATED:20230321T110624Z
LAST-MODIFIED:20230321T111159Z
UID:10000065-1682157600-1682168400@waldorfschule-erlangen.de
SUMMARY:Flohmarkt für alle
DESCRIPTION:Endlich wieder Flohmarkt von Schule und Kindergarten\nDer Frühling kommt und mit ihm die Flohmarkt-Saison – 2023 nun auch wieder im Gelände unserer Waldorfschule!\n  \nAm Samstag\, 22. April\, öffnen wir von 10.00-13.00 Uhr unsere Tore für einen „Flohmarkt für alle“. Wer Lust und Material zum Verkauf hat\, kann einfach am Marktsamstag kommen und seinen Stand unter freiem Himmel aufschlagen (Aufbau ab ca. 08:30 Uhr). Erwachsene zahlen dann direkt vor Ort 5\,00 EUR\, Kinder 1\,00 EUR für ihren Stand. Schwerpunkt sind natürlich gut erhaltene Stücke für Kinder\, Jugendliche und Familien\, der ein oder andere findet beim Aussortieren in den Osterferien zuhause aber sicher auch andere schöne Teile\, die er*sie auf unserem Flohmarkt anbieten mag.
URL:https://waldorfschule-erlangen.de/termin/flohmarkt-fuer-alle/
ATTACH;FMTTYPE=image/jpeg:https://waldorfschule-erlangen.de/wp-content/uploads/Plakat-FWE-Flohmarkt-Vorschaubild.jpg
END:VEVENT
BEGIN:VEVENT
DTSTART;VALUE=DATE:20230426
DTEND;VALUE=DATE:20230427
DTSTAMP:20260420T122250
CREATED:20221108T074518Z
LAST-MODIFIED:20230327T105157Z
UID:10000057-1682467200-1682553599@waldorfschule-erlangen.de
SUMMARY:Deutsch Abitur
DESCRIPTION:
URL:https://waldorfschule-erlangen.de/termin/deutsch-abitur/
ATTACH;FMTTYPE=image/jpeg:https://waldorfschule-erlangen.de/wp-content/uploads/platzhalter2.jpg
END:VEVENT
BEGIN:VEVENT
DTSTART;VALUE=DATE:20230428
DTEND;VALUE=DATE:20230429
DTSTAMP:20260420T122250
CREATED:20221108T074546Z
LAST-MODIFIED:20230327T105153Z
UID:10000058-1682640000-1682726399@waldorfschule-erlangen.de
SUMMARY:Abitur 3 Fach
DESCRIPTION:
URL:https://waldorfschule-erlangen.de/termin/abitur-3-fach/
ATTACH;FMTTYPE=image/jpeg:https://waldorfschule-erlangen.de/wp-content/uploads/platzhalter2.jpg
END:VEVENT
END:VCALENDAR