BEGIN:VCALENDAR
VERSION:2.0
PRODID:-//Freie Waldorfschule Erlangen - ECPv6.3.7//NONSGML v1.0//EN
CALSCALE:GREGORIAN
METHOD:PUBLISH
X-ORIGINAL-URL:https://waldorfschule-erlangen.de
X-WR-CALDESC:Veranstaltungen für Freie Waldorfschule Erlangen
REFRESH-INTERVAL;VALUE=DURATION:PT1H
X-Robots-Tag:noindex
X-PUBLISHED-TTL:PT1H
BEGIN:VTIMEZONE
TZID:Europe/Berlin
BEGIN:DAYLIGHT
TZOFFSETFROM:+0100
TZOFFSETTO:+0200
TZNAME:CEST
DTSTART:20240331T010000
END:DAYLIGHT
BEGIN:STANDARD
TZOFFSETFROM:+0200
TZOFFSETTO:+0100
TZNAME:CET
DTSTART:20241027T010000
END:STANDARD
END:VTIMEZONE
BEGIN:VEVENT
DTSTART;TZID=Europe/Berlin:20240929T080000
DTEND;TZID=Europe/Berlin:20240929T170000
DTSTAMP:20260421T143310
CREATED:20240716T062306Z
LAST-MODIFIED:20240716T062703Z
UID:10000095-1727596800-1727629200@waldorfschule-erlangen.de
SUMMARY:Basti und Julien's Laufchallenge am 29.09.24 - Lauf in Eckental
DESCRIPTION:Wir sind 17 und 16 Jahre alt und veranstalten\, neben Schule und Arbeit\, am 29.09.2024 einen Lauf in Eckental (Erlangen-Höchstadt). Unser Ziel ist es mit dem Lauf 1000 Kinder und Jugendliche zum Sport zu bewegen und Geld für einen guten Zweck (Kinder für Kinder e.V.) zu sammeln\, indem wir an diesem Tag 50 km (8 km mehr als ein Marathon) in 10 Stunden laufen werden. Um dies zu schaffen laufen wir jede halbe Stunde eine Runde von 2\,5 km\, bei der die Teilnehmer*innen so oft Sie möchten mitlaufen können. Für jede dieser 20 Runden wird uns eine berühmte Persönlichkeit als offizieller Laufpate begleiten. Für die Kleinen gibt es auch eine 700 Meter lange Bambini-Runde. \nTelefonisch können Sie uns unter der Nummer 0159-05243319 erreichen und per E-Mail unter basti-julien-challenge@outlook.de \nJulien Stylianou (aktiver Waldorfschüler in Erlangen\, Klasse 12) und Bastian Seitz \nDie genauen Zeiten werden noch bekannt gegeben. \n  \nhttps://waldorfschule-erlangen.de/wp-content/uploads/Basti-und-Juliens-Challenge.mp4
URL:https://waldorfschule-erlangen.de/termin/basti-und-juliens-laufchallenge-am-29-09-24-lauf-in-eckental/
ATTACH;FMTTYPE=image/png:https://waldorfschule-erlangen.de/wp-content/uploads/JulianBasti-Laufchallenge.png
END:VEVENT
END:VCALENDAR